BEGIN:VCALENDAR
PRODID:-//Dr. Thomas Wagner\, TUM WWW & Online Services//myTUM Advanced Calendaring 0.1//DE
VERSION:2.0
METHOD:GET
BEGIN:VTIMEZONE
TZID:Europe/Berlin
BEGIN:STANDARD
DTSTART:20071028T010000
TZOFFSETTO:+0100
TZOFFSETFROM:+0000
TZNAME:CET
END:STANDARD
BEGIN:DAYLIGHT
TZOFFSETTO:+0200
TZOFFSETFROM:+0100
TZNAME:CEST
DTSTART:20080330T020000
END:DAYLIGHT
END:VTIMEZONE
BEGIN:VEVENT
SEQUENCE:1
TRANSP:OPAQUE
UID:termine_Event.2022-04-25.5502444183_cluster-test.mytum.de
DTSTART;TZID=Europe/Berlin:20220512T070000
ORGANIZER;CN="Kirsten Alexander":mailto:kirsten.bannert@tum.de
DTSTAMP:20260419T165658
LAST-MODIFIED:20220425T093835
CATEGORIES:WORKSHOP
SUMMARY:TUM4Mind: Cultivating a healthy mind through mindfulness and meditation
DESCRIPTION:online workshop for TUM students
CONTACT:Kirsten Bannert 
LOCATION:online
CLASS:PUBLIC
URL;VALUE=URL:https://cluster-test.mytum.de/termine/Event.2022-04-25.5502444183
CREATED:20220425T093835
DTEND;TZID=Europe/Berlin:20220512T083000
END:VEVENT
END:VCALENDAR
