BEGIN:VCALENDAR
PRODID:-//Dr. Thomas Wagner\, TUM WWW & Online Services//myTUM Advanced Calendaring 0.1//DE
VERSION:2.0
METHOD:GET
BEGIN:VTIMEZONE
TZID:Europe/Berlin
BEGIN:STANDARD
DTSTART:20071028T010000
TZOFFSETTO:+0100
TZOFFSETFROM:+0000
TZNAME:CET
END:STANDARD
BEGIN:DAYLIGHT
TZOFFSETTO:+0200
TZOFFSETFROM:+0100
TZNAME:CEST
DTSTART:20080330T020000
END:DAYLIGHT
END:VTIMEZONE
BEGIN:VEVENT
SEQUENCE:1
TRANSP:OPAQUE
UID:termine_Event.2021-03-04.4308108173_cluster-test.mytum.de
DTSTART;TZID=Europe/Berlin:20210517T120000
ORGANIZER;CN="Verena Weltz-Huber":mailto:v.weltz-huber@tum.de
DTSTAMP:20260419T195006
LAST-MODIFIED:20210304T135356
CATEGORIES:VORTRAG
SUMMARY:Online Infoveranstaltung „Studium mit Behinderung oder chronischer Erkrankung“
LOCATION:virtuell
CLASS:PUBLIC
URL;VALUE=URL:https://cluster-test.mytum.de/termine/Event.2021-03-04.4308108173
CREATED:20210304T135356
DTEND;TZID=Europe/Berlin:20210517T130000
END:VEVENT
END:VCALENDAR
