BEGIN:VCALENDAR
PRODID:-//Dr. Thomas Wagner\, TUM WWW & Online Services//myTUM Advanced Calendaring 0.1//DE
VERSION:2.0
METHOD:GET
BEGIN:VTIMEZONE
TZID:Europe/Berlin
BEGIN:STANDARD
DTSTART:20071028T010000
TZOFFSETTO:+0100
TZOFFSETFROM:+0000
TZNAME:CET
END:STANDARD
BEGIN:DAYLIGHT
TZOFFSETTO:+0200
TZOFFSETFROM:+0100
TZNAME:CEST
DTSTART:20080330T020000
END:DAYLIGHT
END:VTIMEZONE
BEGIN:VEVENT
SEQUENCE:1
TRANSP:OPAQUE
UID:termine_Event.2020-01-27.1795000058_cluster-test.mytum.de
DTSTART;TZID=Europe/Berlin:20200203T170000
ORGANIZER;CN="wissenschaftssoziologie@gov.tum.de":mailto:wissenschaftssoziologie@gov.tum.de
DTSTAMP:20260419T121641
LAST-MODIFIED:20200127T151915
CATEGORIES:VORTRAG
SUMMARY:Schiedel-Exchange on FutureWork
DESCRIPTION:Interesse, mit Praktiker*innen und Expert*innen zum Thema Future Work zu diskutieren? - z.B. über die Frage, wie Arbeit nachhaltig gestaltet werden kann? Wie die Partizipation erhöht werden kann? Welche Herausforderungen mit agilen Arbeitsformen verbunden sind? Und wie diese Bereiche zusammenhängen? Dann kommen Sie doch am 3.2. um 18 bei der Lebensversicherung von 1871 a. G., Maximiliansplatz 5, 80333 München, vorbei! Bitte zur Anmeldung eine kurze Email an wissenschaftssoziologie@gov.tum.de senden – vielen Dank!
CONTACT:wissenschaftssoziologie@gov.tum.de
LOCATION:Lebensversicherung von 1871 a. G., Maximiliansplatz 5, 80333 München
CLASS:PUBLIC
URL;VALUE=URL:https://cluster-test.mytum.de/termine/Event.2020-01-27.1795000058
CREATED:20200127T151507
DTEND;TZID=Europe/Berlin:20200203T200000
END:VEVENT
END:VCALENDAR
