BEGIN:VCALENDAR
PRODID:-//Dr. Thomas Wagner\, TUM WWW & Online Services//myTUM Advanced Calendaring 0.1//DE
VERSION:2.0
METHOD:GET
BEGIN:VTIMEZONE
TZID:Europe/Berlin
BEGIN:STANDARD
DTSTART:20071028T010000
TZOFFSETTO:+0100
TZOFFSETFROM:+0000
TZNAME:CET
END:STANDARD
BEGIN:DAYLIGHT
TZOFFSETTO:+0200
TZOFFSETFROM:+0100
TZNAME:CEST
DTSTART:20080330T020000
END:DAYLIGHT
END:VTIMEZONE
BEGIN:VEVENT
SEQUENCE:1
TRANSP:OPAQUE
UID:termine_Event.2019-11-13.9244180814_cluster-test.mytum.de
DTSTART;TZID=Europe/Berlin:20191205T131500
ORGANIZER;CN="Violeta Aramayo Schenk":mailto:violeta.aramayo@tum.de
DTSTAMP:20260425T144606
LAST-MODIFIED:20191113T112115
CATEGORIES:VORTRAG
SUMMARY:Seminar Waldbau, Ökosystemdynamik und Forstplanung
CONTACT:V. Aramayo
LOCATION:F10.101
CLASS:PUBLIC
URL;VALUE=URL:https://cluster-test.mytum.de/termine/Event.2019-11-13.9244180814
CREATED:20191113T111839
DTEND;TZID=Europe/Berlin:20191205T161500
END:VEVENT
END:VCALENDAR
