BEGIN:VCALENDAR
PRODID:-//Dr. Thomas Wagner\, TUM WWW & Online Services//myTUM Advanced Calendaring 0.1//DE
VERSION:2.0
METHOD:GET
BEGIN:VTIMEZONE
TZID:Europe/Berlin
BEGIN:STANDARD
DTSTART:20071028T010000
TZOFFSETTO:+0100
TZOFFSETFROM:+0000
TZNAME:CET
END:STANDARD
BEGIN:DAYLIGHT
TZOFFSETTO:+0200
TZOFFSETFROM:+0100
TZNAME:CEST
DTSTART:20080330T020000
END:DAYLIGHT
END:VTIMEZONE
BEGIN:VEVENT
SEQUENCE:1
TRANSP:OPAQUE
UID:termine_Event.2019-11-11.8622608792_cluster-test.mytum.de
DTSTART;TZID=Europe/Berlin:20191112T173000
ORGANIZER;CN="Fabian Wenner":mailto:wenner@tum.de
DTSTAMP:20260419T151816
LAST-MODIFIED:20191111T114530
CATEGORIES:VORTRAG
SUMMARY:Der öffentliche Verkehr in der digitalen Transformation der Stadt
DESCRIPTION:Country Manager Germany, TIER Mobility GmbH
CONTACT:Fabian Wenner
LOCATION:Vorhoelzer Forum
CLASS:PUBLIC
URL;VALUE=URL:https://cluster-test.mytum.de/termine/Event.2019-11-11.8622608792
CREATED:20191111T114417
DTEND;TZID=Europe/Berlin:20191112T190000
END:VEVENT
END:VCALENDAR
